BEGIN:VCALENDAR
VERSION:2.0
PRODID:-//ChamberMaster//Event Calendar 2.0//EN
METHOD:PUBLISH
X-PUBLISHED-TTL:P3D
REFRESH-INTERVAL:P3D
CALSCALE:GREGORIAN
BEGIN:VEVENT
DTSTART;VALUE=DATE:20131018
DTEND;VALUE=DATE:20131021
TRANSP:TRANSPARENT
X-MICROSOFT-CDO-ALLDAYEVENT:TRUE
SUMMARY:South Carolina Arts Education Association Conference
DESCRIPTION:Short description of event: SCAEA Staff Development Conference will be held at USCB Center for the Arts. The conference will provide South Carolina Art Teachers the opportunity to share successful lesson\, programs and events with their colleagues.
X-ALT-DESC;FMTTYPE=text/html:Short description of event: SCAEA Staff Development Conference will be held at USCB Center for the Arts. The conference will provide South Carolina Art Teachers the opportunity to share successful lesson\, programs and events with their colleagues.&nbsp\;&nbsp\;
LOCATION:USCB Center for the Arts 801 Carteret Street\, Beaufort
UID:e.1212.5113
SEQUENCE:3
DTSTAMP:20260421T182304Z
URL:http://business.beaufortchamber.org/events/details/south-carolina-arts-education-association-conference-10-18-2013-5113
END:VEVENT

END:VCALENDAR
