BEGIN:VCALENDAR
VERSION:2.0
PRODID:-//ChamberMaster//Event Calendar 2.0//EN
METHOD:PUBLISH
X-PUBLISHED-TTL:P3D
REFRESH-INTERVAL:P3D
CALSCALE:GREGORIAN
BEGIN:VEVENT
DTSTART;VALUE=DATE:20090901
DTEND;VALUE=DATE:20090902
TRANSP:TRANSPARENT
X-MICROSOFT-CDO-ALLDAYEVENT:TRUE
SUMMARY:South Carolina Chamber - Lowcountry Grassroots Meeting
DESCRIPTION:The SC Chamber and other chambers across the state invite you to participate in this effort to unite the business community and legislators in developing legislative priorities.  On line registration is available.
X-ALT-DESC;FMTTYPE=text/html:The SC Chamber and other chambers across the state invite you to participate in this effort to unite the business community and legislators in developing legislative priorities.  On line registration is available.
LOCATION:
UID:e.1212.3451
SEQUENCE:3
DTSTAMP:20260425T011010Z
URL:http://business.beaufortchamber.org/events/details/south-carolina-chamber-lowcountry-grassroots-meeting-09-01-2009-3451
END:VEVENT

END:VCALENDAR
