BEGIN:VCALENDAR
VERSION:2.0
PRODID:-//ChamberMaster//Event Calendar 2.0//EN
METHOD:PUBLISH
X-PUBLISHED-TTL:P3D
REFRESH-INTERVAL:P3D
CALSCALE:GREGORIAN
BEGIN:VEVENT
DTSTART;VALUE=DATE:20090124
DTEND;VALUE=DATE:20090125
TRANSP:TRANSPARENT
X-MICROSOFT-CDO-ALLDAYEVENT:TRUE
SUMMARY:Southern Fried Chicks
DESCRIPTION:Southern Fried Chicks is a top-grossing\, all female comedy group on the road today.  The four performers tell the story of their hilarious take on life\, love and the prusuit of happiness.  Think Blue Collar comedy with better hair and bigger attitude.  For questions or tickets\, please call the number listed.  Individual tickets are $40\, $35 and $30.
X-ALT-DESC;FMTTYPE=text/html:Southern Fried Chicks is a top-grossing\, all female comedy group on the road today.  The four performers tell the story of their hilarious take on life\, love and the prusuit of happiness.  Think Blue Collar comedy with better hair and bigger attitude.  For questions or tickets\, please call the number listed.  Individual tickets are $40\, $35 and $30.
LOCATION:
UID:e.1212.2518
SEQUENCE:3
DTSTAMP:20260425T124201Z
URL:http://business.beaufortchamber.org/events/details/southern-fried-chicks-01-24-2009-2518
END:VEVENT

END:VCALENDAR
