BEGIN:VCALENDAR
VERSION:2.0
PRODID:-//ChamberMaster//Event Calendar 2.0//EN
METHOD:PUBLISH
X-PUBLISHED-TTL:P3D
REFRESH-INTERVAL:P3D
CALSCALE:GREGORIAN
BEGIN:VEVENT
DTSTART;VALUE=DATE:20090718
DTEND;VALUE=DATE:20090719
TRANSP:TRANSPARENT
X-MICROSOFT-CDO-ALLDAYEVENT:TRUE
SUMMARY:Southern Living House - 'Sugarberry Cottage'
DESCRIPTION:This beautiful cottage home is part of the "Choose Your Home Giveaway".  Net proceeds will benefit the Riverview Charter School of Beaufort.  Tours are available Monday\, Wednesday through Friday from 10 - 5.  Sat and Sun from 10 - 6.  Closed on Tuesday and Holidays.  Cost is
X-ALT-DESC;FMTTYPE=text/html:This beautiful cottage home is part of the "Choose Your Home Giveaway".  Net proceeds will benefit the Riverview Charter School of Beaufort.  Tours are available Monday\, Wednesday through Friday from 10 - 5.  Sat and Sun from 10 - 6.  Closed on Tuesday and Holidays.  Cost is
LOCATION:
UID:e.1212.3390
SEQUENCE:3
DTSTAMP:20260425T025252Z
URL:http://business.beaufortchamber.org/events/details/southern-living-house-sugarberry-cottage-07-18-2009-3390
END:VEVENT

END:VCALENDAR
