BEGIN:VCALENDAR
VERSION:2.0
PRODID:-//ChamberMaster//Event Calendar 2.0//EN
METHOD:PUBLISH
X-PUBLISHED-TTL:P3D
REFRESH-INTERVAL:P3D
CALSCALE:GREGORIAN
BEGIN:VEVENT
DTSTART:20140314T144500Z
DTEND:20140314T154500Z
X-MICROSOFT-CDO-ALLDAYEVENT:FALSE
SUMMARY:Special Event: Senator Lindsey Graham Visit
DESCRIPTION:Special visit by Senator Lindsey Graham\n\nFriday\, March 14\n\nArsenal (713 Craven Street\, Beaufort) \n\n10:45 am \n\n\n\nSenator Graham will be giving a "Washington update" with information related to the military and other important issues impacting our country and this community
X-ALT-DESC;FMTTYPE=text/html:<span style="color:black\;"><span style="font-family:arial\,sans-serif\;"><span style="font-size:10.0pt\;">Special visit by Senator Lindsey Graham<br />\nFriday\, March 14<br />\nArsenal (713 Craven Street\, Beaufort)&nbsp\;<br />\n10:45 am&nbsp\;<br />\n<br />\nSenator Graham will be giving a &quot\;Washington update&quot\; with information related to the military and other important issues impacting our country and this community</span></span></span>
LOCATION:You're invited to join us for a special visit by U.S. Senator Lindsey Graham. The Beaufort Regional Chamber of Commerce and the Military Enhancement Committee will host Senator Graham on Friday\, March 14 at the Arsenal (713 Craven Street\, Beaufort) beginning at 10:45 am. Senator Graham will be giving a "Washington update" with information related to the military and other important issues impacting our country and this community
UID:e.1212.5269
SEQUENCE:3
DTSTAMP:20260423T092531Z
URL:http://business.beaufortchamber.org/events/details/special-event-senator-lindsey-graham-visit-03-14-2014-5269
END:VEVENT

END:VCALENDAR
