BEGIN:VCALENDAR
VERSION:2.0
PRODID:-//ChamberMaster//Event Calendar 2.0//EN
METHOD:PUBLISH
X-PUBLISHED-TTL:P3D
REFRESH-INTERVAL:P3D
CALSCALE:GREGORIAN
BEGIN:VEVENT
DTSTART;VALUE=DATE:20090328
DTEND;VALUE=DATE:20090329
TRANSP:TRANSPARENT
X-MICROSOFT-CDO-ALLDAYEVENT:TRUE
SUMMARY:Spring Antique Expo
DESCRIPTION:5\,000 square feet of fine period antiques.  Hosted by Palmetto Antique Gallery\, 221 Antiques & Coffee Emporium.  \n\nSpace still available.  \n\nSaturday\, March 28 - 10am-6pm\nSunday\, March 29 - 10am - 5pm
X-ALT-DESC;FMTTYPE=text/html:5\,000 square feet of fine period antiques.  Hosted by Palmetto Antique Gallery\, 221 Antiques & Coffee Emporium.  \n\nSpace still available.  \n\nSaturday\, March 28 - 10am-6pm\nSunday\, March 29 - 10am - 5pm
LOCATION:
UID:e.1212.3041
SEQUENCE:3
DTSTAMP:20260425T111532Z
URL:http://business.beaufortchamber.org/events/details/spring-antique-expo-03-28-2009-3041
END:VEVENT

END:VCALENDAR
