BEGIN:VCALENDAR
VERSION:2.0
PRODID:-//ChamberMaster//Event Calendar 2.0//EN
METHOD:PUBLISH
X-PUBLISHED-TTL:P3D
REFRESH-INTERVAL:P3D
CALSCALE:GREGORIAN
BEGIN:VEVENT
DTSTART:20111119T000000Z
DTEND:20111120T020000Z
X-MICROSOFT-CDO-ALLDAYEVENT:FALSE
SUMMARY:St. John's Lutheran Church Concert - "A Night at the Movies"
DESCRIPTION:The Chorale will perform the music that will take you back to the movies of yesteryear and the experience that goes along with it. \n\n	The Chorale is sustained by collecting semi-annual $30.00 dues from the singers\, and from ad revenue from the concert programs\, as well as donations from sustaining community supporters.
X-ALT-DESC;FMTTYPE=text/html:<font face="Verdana">The Chorale will perform&nbsp\;the music that will&nbsp\;take you back to the movies of yesteryear and the experience that goes along with it.</font><font face="Verdana"> </font>\n<p>\n	<font face="Verdana">The Chorale is sustained by collecting semi-annual $30.00 dues from the singers\, and from ad revenue from the concert programs\, as well as donations from sustaining community supporters. <span _fck_bookmark="1" style="display: none">&nbsp\;</span></font></p>\n<br />\n<font face="Verdana"><span _fck_bookmark="1" style="display: none">&nbsp\;</span></font>
LOCATION:St. John's Lutheran Church 157 Lady's Island Lady's Island\, SC 29907
UID:e.1212.4350
SEQUENCE:3
DTSTAMP:20260423T075142Z
URL:http://business.beaufortchamber.org/events/details/st-john-s-lutheran-church-concert-a-night-at-the-movies-11-18-2011-4350
END:VEVENT

END:VCALENDAR
