BEGIN:VCALENDAR
VERSION:2.0
PRODID:-//ChamberMaster//Event Calendar 2.0//EN
METHOD:PUBLISH
X-PUBLISHED-TTL:P3D
REFRESH-INTERVAL:P3D
CALSCALE:GREGORIAN
BEGIN:VEVENT
DTSTART:20130302T180000Z
DTEND:20130303T010000Z
X-MICROSOFT-CDO-ALLDAYEVENT:FALSE
SUMMARY:St. Peter's 8th Annual Oyster Roast & Microbrew Festival
DESCRIPTION:Live Music - Live Auction\n\n	 \n\n	 \n\n	St. Peter's 8th Annual Oyster Roast and International Microbrew Festival will be held on Sat. March 2nd 2013 at The Live Oaks Park in Port Royal. The Oyster Roast Committee organizes this annual fundraiser in support of their children's school. Sponsorships are now being accepted at a variety of levels. For details call the school office at (843) 522-2163. \n\n	Guests at this year's event will enjoy an "all you can eat "buffet of oysters and beer\; local delicacies will also be for sale from specially invited area chefs. Once again children under 14 yrs of age will have their own FREE menu\n\n	Free\, supervised Children's Fun Court will include dedicated adult supervision\; secure drop-off with Positive ID for parent and child\; and a host of activities in the playground. \n\n	Live Music featuring "The Steppin' Stones" and entertainment will include a live DJ\, inflatable rides\, games and activities for the kids. \n\n	A Live Auction featuring vacation packages\, chartered fishing trips\, hunting rifles\, original artwork\, wine tasting parties\, catered dinners\, rounds of golf and more\, a Silent Auction and more will be followed by a bonfire that will round out the event. \n\n	They will again offer a microbrew tasting booth with an international array of microbrews\, beer and wine. Now accepting event sponsorships. \n\n	WORTH THE PRICE OF A BABYSITTER ALONE \n\n	 \n\n	 \n\n	Tickets on sale at St. Peter's School. Cost is $25 per person. For more information visit our website at http://stpetersoysterroast.com/ Show your race number from our morning 5K run & get $10 off admission!
X-ALT-DESC;FMTTYPE=text/html:<p>\n	Live Music - Live Auction</p>\n<p align="LEFT">\n	&nbsp\;</p>\n<p>\n	&#12288\;</p>\n<p>\n	<b><i><font size="3">St. Peter&rsquo\;s </font><font size="3">8</font><font size="1">th</font><font size="1"> </font><font size="3">Annual Oyster Roast and International Microbrew Festival </font></i></b><font face="Times New Roman\,Times New Roman" size="3"><font face="Times New Roman\,Times New Roman" size="3">will be held on </font></font><b><font face="Times New Roman\,Times New Roman" size="3"><font face="Times New Roman\,Times New Roman" size="3">Sat. March </font></font><font face="Times New Roman\,Times New Roman" size="3"><font face="Times New Roman\,Times New Roman" size="3">2</font></font><font face="Times New Roman\,Times New Roman" size="1"><font face="Times New Roman\,Times New Roman" size="1">nd</font></font><font face="Times New Roman\,Times New Roman" size="1"><font face="Times New Roman\,Times New Roman" size="1"> </font></font><font face="Times New Roman\,Times New Roman" size="3"><font face="Times New Roman\,Times New Roman" size="3">2013 at The Live Oaks Park in Port Royal</font></font></b><font face="Times New Roman\,Times New Roman" size="3"><font face="Times New Roman\,Times New Roman" size="3">. </font></font><i><font face="Times New Roman\,Times New Roman" size="3"><font face="Times New Roman\,Times New Roman" size="3">The Oyster Roast Committee </font></font></i><font face="Times New Roman\,Times New Roman" size="3"><font face="Times New Roman\,Times New Roman" size="3">organizes this annual fundraiser in support of their children&rsquo\;s school. Sponsorships are now being accepted at a variety of levels. For details call the school office at (843) 522-2163. </font></font></p>\n<p>\n	<font face="Times New Roman\,Times New Roman" size="3"><font face="Times New Roman\,Times New Roman" size="3">Guests at this year&rsquo\;s event will enjoy an &quot\;all you can eat &quot\;buffet of oysters and beer\; local delicacies will also be for sale from specially invited area chefs. Once again children under 14 yrs of age will have their own FREE menu</font></font></p>\n<p>\n	<font face="Times New Roman\,Times New Roman" size="3"><font face="Times New Roman\,Times New Roman" size="3">Free\, supervised Children&rsquo\;s Fun Court will include dedicated adult supervision\; secure drop-off with Positive ID for parent and child\; and a host of activities in the playground. </font></font></p>\n<p>\n	<font face="Times New Roman\,Times New Roman" size="3"><font face="Times New Roman\,Times New Roman" size="3">Live Music featuring &quot\;The Steppin&rsquo\; Stones&quot\; and entertainment will include a live DJ\, inflatable rides\, games and activities for the kids. </font></font></p>\n<p>\n	<font face="Times New Roman\,Times New Roman" size="3"><font face="Times New Roman\,Times New Roman" size="3">A Live Auction featuring vacation packages\, chartered fishing trips\, hunting rifles\, original artwork\, wine tasting parties\, catered dinners\, rounds of golf and more\, a Silent Auction and more will be followed by a bonfire that will round out the event. </font></font></p>\n<p>\n	<font face="Times New Roman\,Times New Roman" size="3"><font face="Times New Roman\,Times New Roman" size="3">They will again offer a microbrew tasting booth with an international array of microbrews\, beer and wine. Now accepting event sponsorships. </font></font></p>\n<p>\n	<font face="Times New Roman\,Times New Roman" size="3"><font face="Times New Roman\,Times New Roman" size="3">WORTH THE PRICE OF A BABYSITTER ALONE </font></font></p>\n<p align="LEFT">\n	&nbsp\;</p>\n<p>\n	&#12288\;</p>\n<p>\n	<font size="3">Tickets on sale at St. Peter&rsquo\;s School. Cost is $25 per person. For more information visit our website at </font><font size="2">http://stpetersoysterroast.com/ </font><b><font face="Times New Roman\,Times New Roman" size="3"><font face="Times New Roman\,Times New Roman" size="3">Show your race number from our morning 5K run &amp\; get $10 off admission! </font></font></b></p>\n<p>\n	<br />\n	&nbsp\;</p>\n
LOCATION:Live Oak Park\, Port Royal\, SC (by Port Royal Elementary School
UID:e.1212.4772
SEQUENCE:3
DTSTAMP:20260422T065938Z
URL:http://business.beaufortchamber.org/events/details/st-peter-s-8th-annual-oyster-roast-microbrew-festival-03-02-2013-4772
END:VEVENT

END:VCALENDAR
