BEGIN:VCALENDAR
VERSION:2.0
PRODID:-//ChamberMaster//Event Calendar 2.0//EN
METHOD:PUBLISH
X-PUBLISHED-TTL:P3D
REFRESH-INTERVAL:P3D
CALSCALE:GREGORIAN
BEGIN:VEVENT
DTSTART:20120303T180000Z
DTEND:20120303T220000Z
X-MICROSOFT-CDO-ALLDAYEVENT:FALSE
SUMMARY:St. Peter's Annual Oyster Roast and Microbrew Festival
DESCRIPTION:The Annual St. Peter Oyster Roast & Microbrew Festival is Saturday\, March 3 at Live Oaks Park in Port Royal! Live entertainment! Free Children's Fun Court! Tickets are on sale at St. Peter Catholic School (522-2163) and Bill's Liquor & Fine Wines (227-1280).. .   ..
X-ALT-DESC;FMTTYPE=text/html:<span style="font-size: 14px"><strong>The Annual St. Peter Oyster Roast &amp\; Microbrew Festival is Saturday\, March 3 at Live Oaks Park in Port Royal! Live&nbsp\;entertainment! Free Children&#39\;s Fun Court!&nbsp\;Tickets are on sale at St. Peter Catholic School (522-2163)&nbsp\;and Bill&#39\;s Liquor &amp\; Fine Wines (227-1280).</strong></span><font color="#bd0000"><strong><font style="font-size: 14pt"><span _fck_bookmark="1" style="display: none">. . &nbsp\;&nbsp\;..&nbsp\;</span></font></strong></font>
LOCATION:
UID:e.1212.4509
SEQUENCE:3
DTSTAMP:20260423T011252Z
URL:http://business.beaufortchamber.org/events/details/st-peter-s-annual-oyster-roast-and-microbrew-festival-03-03-2012-4509
END:VEVENT

END:VCALENDAR
