BEGIN:VCALENDAR
VERSION:2.0
PRODID:-//ChamberMaster//Event Calendar 2.0//EN
METHOD:PUBLISH
X-PUBLISHED-TTL:P3D
REFRESH-INTERVAL:P3D
CALSCALE:GREGORIAN
BEGIN:VEVENT
DTSTART:20130302T160000Z
DTEND:20130302T180000Z
X-MICROSOFT-CDO-ALLDAYEVENT:FALSE
SUMMARY:St. Peter's Oyster Run - 5 K Run/Walk
DESCRIPTION:The race will begin and end at Live Oaks Park in Port Royal\, SC  Race day registration from 9 am to 10:30 am.\n\n\n\nFee for participation is 5K - $25   1 mile - $15\n\nThe first 200 entrants shall receive a Long Sleeve Shirt.\n\n\n\nRegister at Palmetto Running Company or on line http://stpetersoysterroast.com/st-peters-oyster-5k-runwalk/  or www.active.com/donate/stpetersoysterrun5k
X-ALT-DESC;FMTTYPE=text/html:The race will begin and end at Live Oaks Park in Port Royal\, SC&nbsp\; Race day registration from 9 am to 10:30 am.<br />\n<br />\nFee for participation is 5K - $25&nbsp\;&nbsp\; 1 mile - $15<br />\nThe first 200 entrants shall receive a Long Sleeve Shirt.<br />\n<br />\nRegister at Palmetto Running Company or on line <font color="#0000ff" face="TT15Et00"><font color="#0000ff" face="TT15Et00">http://stpetersoysterroast.com/st-peters-oyster-5k-runwalk/&nbsp\; or <font color="#0000ff" face="TT15Et00"><font color="#0000ff" face="TT15Et00">www.active.com/donate/stpetersoysterrun5k</font></font></font></font><br />\n
LOCATION:Live Oaks Park\, Port Royal\, SC
UID:e.1212.4773
SEQUENCE:3
DTSTAMP:20260422T065633Z
URL:http://business.beaufortchamber.org/events/details/st-peter-s-oyster-run-5-k-run-walk-03-02-2013-4773
END:VEVENT

END:VCALENDAR
