BEGIN:VCALENDAR
VERSION:2.0
PRODID:-//ChamberMaster//Event Calendar 2.0//EN
METHOD:PUBLISH
X-PUBLISHED-TTL:P3D
REFRESH-INTERVAL:P3D
CALSCALE:GREGORIAN
BEGIN:VEVENT
DTSTART;VALUE=DATE:20090207
DTEND;VALUE=DATE:20090208
TRANSP:TRANSPARENT
X-MICROSOFT-CDO-ALLDAYEVENT:TRUE
SUMMARY:St. Peters 2nd Annual Beaufort Irish Festival
DESCRIPTION:Includes Irish history\, music and culture.  Come join in on the fun !  Details TBA.
X-ALT-DESC;FMTTYPE=text/html:Includes Irish history\, music and culture.  Come join in on the fun !  Details TBA.
LOCATION:
UID:e.1212.2742
SEQUENCE:3
DTSTAMP:20260425T124823Z
URL:http://business.beaufortchamber.org/events/details/st-peters-2nd-annual-beaufort-irish-festival-02-07-2009-2742
END:VEVENT

END:VCALENDAR
