BEGIN:VCALENDAR
VERSION:2.0
PRODID:-//ChamberMaster//Event Calendar 2.0//EN
METHOD:PUBLISH
X-PUBLISHED-TTL:P3D
REFRESH-INTERVAL:P3D
CALSCALE:GREGORIAN
BEGIN:VEVENT
DTSTART;VALUE=DATE:20090117
DTEND;VALUE=DATE:20090118
TRANSP:TRANSPARENT
X-MICROSOFT-CDO-ALLDAYEVENT:TRUE
SUMMARY:St. Peters 4th Annual Oyster Roast & International Microbrew Festival
DESCRIPTION:Come out and enjoy the " ALL-U-Can Eat Oysters and Beer".  Live auction and entertainment.  Contact St. Peters Catholic School for tickets or Bill's Liquors & Fine Wines.  $25 in advance or $35 at door.  Rain date 01/18/2009.
X-ALT-DESC;FMTTYPE=text/html:Come out and enjoy the " ALL-U-Can Eat Oysters and Beer".  Live auction and entertainment.  Contact St. Peters Catholic School for tickets or Bill's Liquors & Fine Wines.  $25 in advance or $35 at door.  Rain date 01/18/2009.
LOCATION:
UID:e.1212.2741
SEQUENCE:3
DTSTAMP:20260425T125311Z
URL:http://business.beaufortchamber.org/events/details/st-peters-4th-annual-oyster-roast-international-microbrew-festival-01-17-2009-2741
END:VEVENT

END:VCALENDAR
