BEGIN:VCALENDAR
VERSION:2.0
PRODID:-//ChamberMaster//Event Calendar 2.0//EN
METHOD:PUBLISH
X-PUBLISHED-TTL:P3D
REFRESH-INTERVAL:P3D
CALSCALE:GREGORIAN
BEGIN:VEVENT
DTSTART:20121005T200000Z
DTEND:20121005T220000Z
X-MICROSOFT-CDO-ALLDAYEVENT:FALSE
SUMMARY:Stars in Shorts INDIE Films at CFA
DESCRIPTION:Directed by Jay Kamen\, Chris Foggin\, Benjamin Grayson\, Robert Festinger\, Rupert Friend\, Neil Labute\, Jacob Chase\n\nStarring Keira Knightley\, Colin Firth\, Judi Dench\, Kenneth Branagh\, Julia Stiles\, Sarah Paulson\, Jason Alexander\, Lily Tomlin\, and more\n\nEnglish\n\n1 hr 51 mins\, rated NR\n\n\n\nOn the heels of the annual OSCAR  NOMINATED SHORT FILMS program\, ShortsHD presents STARS IN SHORTS\, an incredible collection of short films featuring some of the world's biggest actors! Judi Dench is a neophyte in the complicated landscape of internet dating in "Friend Request Pending." Colin Firth is an unusually needy neighbor to Keira Knightley in "Steve." Lily Tomlin gets lost on her way to a funeral in "Procession." Jason Alexander is a screenwriter at the end of his rope in the musical short "Not Your Time." Also including short films starring Kenneth Branagh\, Julia Stiles\, and others\, STARS IN SHORTS is the first collection of short films to bring you everything you expect when you go to the movie theater   laughs\, drama\, and\, now\, some of the best actors from film and television.
X-ALT-DESC;FMTTYPE=text/html:Directed by Jay Kamen\, Chris Foggin\, Benjamin Grayson\, Robert Festinger\, Rupert Friend\, Neil Labute\, Jacob Chase<br />\nStarring Keira Knightley\, Colin Firth\, Judi Dench\, Kenneth Branagh\, Julia Stiles\, Sarah Paulson\, Jason Alexander\, Lily Tomlin\, and more<br />\nEnglish<br />\n1 hr 51 mins\, rated NR<br />\n<br />\nOn the heels of the annual OSCAR&reg\; NOMINATED SHORT FILMS program\, ShortsHD presents STARS IN SHORTS\, an incredible collection of short films featuring some of the world&rsquo\;s biggest actors! Judi Dench is a neophyte in the complicated landscape of internet dating in &ldquo\;Friend Request Pending.&rdquo\; Colin Firth is an unusually needy neighbor to Keira Knightley in &ldquo\;Steve.&rdquo\; Lily Tomlin gets lost on her way to a funeral in &ldquo\;Procession.&rdquo\; Jason Alexander is a screenwriter at the end of his rope in the musical short &ldquo\;Not Your Time.&rdquo\; Also including short films starring Kenneth Branagh\, Julia Stiles\, and others\, STARS IN SHORTS is the first collection of short films to bring you everything you expect when you go to the movie theater &ndash\; laughs\, drama\, and\, now\, some of the best actors from film and television.<br />\n
LOCATION:USCB Center for the Arts - 801 Carteret Street - Beaufort SC29902
UID:e.1212.4623
SEQUENCE:3
DTSTAMP:20260422T151038Z
URL:http://business.beaufortchamber.org/events/details/stars-in-shorts-indie-films-at-cfa-10-05-2012-4623
END:VEVENT

END:VCALENDAR
