BEGIN:VCALENDAR
VERSION:2.0
PRODID:-//ChamberMaster//Event Calendar 2.0//EN
METHOD:PUBLISH
X-PUBLISHED-TTL:P3D
REFRESH-INTERVAL:P3D
CALSCALE:GREGORIAN
BEGIN:VEVENT
DTSTART;VALUE=DATE:20090807
DTEND;VALUE=DATE:20090808
TRANSP:TRANSPARENT
X-MICROSOFT-CDO-ALLDAYEVENT:TRUE
SUMMARY:State of South Carolina - Sales Tax Free Weekend
DESCRIPTION:As store shelves get stocked with back-to-school supplies \, SC prepares for its annual "Tax Holiday"\, which eliminates the 6 % to 8 % sales tax charged on many items used for school.  Go to web site for complete listing of tax-free items and those that are not.
X-ALT-DESC;FMTTYPE=text/html:As store shelves get stocked with back-to-school supplies \, SC prepares for its annual "Tax Holiday"\, which eliminates the 6 % to 8 % sales tax charged on many items used for school.  Go to web site for complete listing of tax-free items and those that are not.
LOCATION:
UID:e.1212.3419
SEQUENCE:3
DTSTAMP:20260425T011003Z
URL:http://business.beaufortchamber.org/events/details/state-of-south-carolina-sales-tax-free-weekend-08-07-2009-3419
END:VEVENT

END:VCALENDAR
