BEGIN:VCALENDAR
VERSION:2.0
PRODID:-//ChamberMaster//Event Calendar 2.0//EN
METHOD:PUBLISH
X-PUBLISHED-TTL:P3D
REFRESH-INTERVAL:P3D
CALSCALE:GREGORIAN
BEGIN:VEVENT
DTSTART;VALUE=DATE:20091012
DTEND;VALUE=DATE:20091013
TRANSP:TRANSPARENT
X-MICROSOFT-CDO-ALLDAYEVENT:TRUE
SUMMARY:Storybook Shoppe - First Annual Halloween Story Writing Contest
DESCRIPTION:We are accepting submissions from 5th and 6th grade students who go to any public or private school throught Beaufort County. There will be 1st\, 2nd and 3rd place winners in each grade.  1st place winners will have their story published on the website\, acknowledged in the newsletter and be honored with a Halloween Party at the store on October 31 from 11am - 12 Noon.\nDeadline for submissions is Monday\, October 26
X-ALT-DESC;FMTTYPE=text/html:We are accepting submissions from 5th and 6th grade students who go to any public or private school throught Beaufort County. There will be 1st\, 2nd and 3rd place winners in each grade.  1st place winners will have their story published on the website\, acknowledged in the newsletter and be honored with a Halloween Party at the store on October 31 from 11am - 12 Noon.\nDeadline for submissions is Monday\, October 26
LOCATION:
UID:e.1212.3619
SEQUENCE:3
DTSTAMP:20260424T233801Z
URL:http://business.beaufortchamber.org/events/details/storybook-shoppe-first-annual-halloween-story-writing-contest-10-12-2009-3619
END:VEVENT

END:VCALENDAR
