BEGIN:VCALENDAR
VERSION:2.0
PRODID:-//ChamberMaster//Event Calendar 2.0//EN
METHOD:PUBLISH
X-PUBLISHED-TTL:P3D
REFRESH-INTERVAL:P3D
CALSCALE:GREGORIAN
BEGIN:VEVENT
DTSTART:20130518T223000Z
DTEND:20130519T003000Z
X-MICROSOFT-CDO-ALLDAYEVENT:FALSE
SUMMARY:StreetMusic in Port Royal
DESCRIPTION:"The Music of Your Life" by Terry Herron and the Savannah Jazz All Stars\n\n6:30pm Saturday\, May 18\n\n	A virtual potpourri of American Standards\, as performed by Sinatra\, Tony Bennett\, Michael Buble\, Neil Diamond and James Taylor. Croon-meister Terry Herron is your Vocalist and M.C\, and a surprise female vocalist will deliver American classics in the styles of Ella Fitzgerald\, Billie Holiday\, Lena Horne\, and maybe even a little Patsy Cline. Call it an "Easy Listening Swing\, Straight ahead Bebop Jazz\, Country\, Bossa Nova Concert." This all-star Quintet features the Lowcountry's best improvisational musicians\, professionals who'll blow your socks off with great renditions of Blues\, Jazz\, Big Band Swing\, and their own unique styles\, on piano\, trumpet\, saxaphone\, flute\, drums\, and bass.
X-ALT-DESC;FMTTYPE=text/html:&quot\;The Music of Your Life&quot\; by Terry Herron and the Savannah Jazz All Stars<br />\n6:30pm Saturday\, May 18\n<p class="main">\n	A virtual potpourri of American Standards\, as performed by Sinatra\, Tony Bennett\, Michael Buble\, Neil Diamond and James Taylor. Croon-meister Terry Herron is your Vocalist and M.C\, and a surprise female vocalist will deliver American classics in the styles of Ella Fitzgerald\, Billie Holiday\, Lena Horne\, and maybe even a little Patsy Cline. Call it an &quot\;Easy Listening Swing\, Straight ahead Bebop Jazz\, Country\, Bossa Nova Concert.&quot\; This all-star Quintet features the Lowcountry&#39\;s best improvisational musicians\, professionals who&#39\;ll blow your socks off with great renditions of Blues\, Jazz\, Big Band Swing\, and their own unique styles\, on piano\, trumpet\, saxaphone\, flute\, drums\, and bass.</p>\n
LOCATION:Paris Avenue\, Port Royal
UID:e.1212.4989
SEQUENCE:3
DTSTAMP:20260422T032525Z
URL:http://business.beaufortchamber.org/events/details/streetmusic-in-port-royal-05-18-2013-4989
END:VEVENT

END:VCALENDAR
