BEGIN:VCALENDAR
VERSION:2.0
PRODID:-//ChamberMaster//Event Calendar 2.0//EN
METHOD:PUBLISH
X-PUBLISHED-TTL:P3D
REFRESH-INTERVAL:P3D
CALSCALE:GREGORIAN
BEGIN:VEVENT
DTSTART;VALUE=DATE:20130601
DTEND;VALUE=DATE:20130602
TRANSP:TRANSPARENT
X-MICROSOFT-CDO-ALLDAYEVENT:TRUE
SUMMARY:StreetMusic in Port Royal on Paris Avenue
DESCRIPTION:Another Roadside Attraction\n\n6:30pm Saturday\, June 1\n\n	Direct from Roanoke\, Virginia ~ Another Roadside Attraction's signature sound is equal parts gypsy jazz\, vaudeville\, circus funhouse\, and riverboat steam\, "rattled around in a boxcar for a couple thousand miles\, served with sangria and sausages."\n\n	Garden & Gun magazine praises them: "Another RoadSide Attraction brings a cabaret presence to the stage along with a fully acoustic potluck of instruments\, including a fiddle\, a banjo\, a kazoo\, a musical saw\, a box o' wrenches\, a ukulele\, and a made-from-scratch drum kit sporting an American Tourister suitcase in lieu of a kick drum. "Samsonite was lacking\, as a drum\," explains Jordan Rivers\, the band's guitarr'n player and one of its founding members. The sextet's music is as distinctive and colorful as its look - beautiful\, bizarre\, sometimes eerie\, and always fun."
X-ALT-DESC;FMTTYPE=text/html:Another Roadside Attraction<br />\n6:30pm Saturday\, June 1\n<p class="main">\n	Direct from Roanoke\, Virginia ~ Another Roadside Attraction&#39\;s signature sound is equal parts gypsy jazz\, vaudeville\, circus funhouse\, and riverboat steam\, &quot\;rattled around in a boxcar for a couple thousand miles\, served with sangria and sausages.&quot\;</p>\n<p class="main">\n	Garden &amp\; Gun magazine praises them: &quot\;Another RoadSide Attraction brings a cabaret presence to the stage along with a fully acoustic potluck of instruments\, including a fiddle\, a banjo\, a kazoo\, a musical saw\, a box o&#39\; wrenches\, a ukulele\, and a made-from-scratch drum kit sporting an American Tourister suitcase in lieu of a kick drum. &quot\;Samsonite was lacking\, as a drum\,&quot\; explains Jordan Rivers\, the band&#39\;s guitarr&#39\;n player and one of its founding members. The sextet&#39\;s music is as distinctive and colorful as its look - beautiful\, bizarre\, sometimes eerie\, and always fun.&quot\;</p>\n
LOCATION:Paris Avenue\, Port Royal
UID:e.1212.4990
SEQUENCE:3
DTSTAMP:20260422T012436Z
URL:http://business.beaufortchamber.org/events/details/streetmusic-in-port-royal-on-paris-avenue-06-01-2013-4990
END:VEVENT

END:VCALENDAR
