BEGIN:VCALENDAR
VERSION:2.0
PRODID:-//ChamberMaster//Event Calendar 2.0//EN
METHOD:PUBLISH
X-PUBLISHED-TTL:P3D
REFRESH-INTERVAL:P3D
CALSCALE:GREGORIAN
BEGIN:VEVENT
DTSTART:20130629T223000Z
DTEND:20130630T003000Z
X-MICROSOFT-CDO-ALLDAYEVENT:FALSE
SUMMARY:StreetMusic in Port Royal - Paris Avenue
DESCRIPTION:Angela Easterling and the Beguilers ~ Back by Popular Demand!\n\n6:30pm Saturday\, June 29\n\n	"Innocence and clarity so fresh as to be dangerous." - Maverick\n\n	"Angela Easterling has a golden glowing voice and she writes observant songs about contemporary life. She can weave urban sprawl and cultural shifts into songs as gingerly as love and relationships." - Craig Havighurst\, Music City Roots\n\n	Angela Easterling is a farm-raised\, South Carolina-bred\, All-American girl\; her country roots run deep\, and her music carries the flavor of her distinctly American culture and upbringing. So why would she do an album (Mon Secret\, 2011) of original songs in French? Angela's answer\, "Why not"\, she laughs. Why not\, indeed\, when the result speaks for itself: a combination of sweet southern Americana music and the lovely\, romantic language spoken along The Seine\, coming together to create something truly unique and unexpected. In 2012\, Angela was named a Wildflower Performing Songwriter Finalist. In 2009 & 2010 she was a Kerrville New Folk Finalist\, and in 2011\, a Telluride Troubadour Finalist. The Boston Herald named her song "The Picture" "Best Political Country Song" in their 2009 Year's best music. Her music has been featured in commercials and Animal Planet\, and the Smithsonian Institution's exhibit New Harmonies: Celebrating American Root's Music.
X-ALT-DESC;FMTTYPE=text/html:Angela Easterling and the Beguilers ~ Back by Popular Demand!<br />\n6:30pm Saturday\, June 29\n<p class="main">\n	&quot\;Innocence and clarity so fresh as to be dangerous.&quot\; - Maverick</p>\n<p class="main">\n	&quot\;Angela Easterling has a golden glowing voice and she writes observant songs about contemporary life. She can weave urban sprawl and cultural shifts into songs as gingerly as love and relationships.&quot\; - Craig Havighurst\, Music City Roots</p>\n<p class="main">\n	Angela Easterling is a farm-raised\, South Carolina-bred\, All-American girl\; her country roots run deep\, and her music carries the flavor of her distinctly American culture and upbringing. So why would she do an album (Mon Secret\, 2011) of original songs in French? Angela&#39\;s answer\, &quot\;Why not&quot\;\, she laughs. Why not\, indeed\, when the result speaks for itself: a combination of sweet southern Americana music and the lovely\, romantic language spoken along The Seine\, coming together to create something truly unique and unexpected. In 2012\, Angela was named a Wildflower Performing Songwriter Finalist. In 2009 &amp\; 2010 she was a Kerrville New Folk Finalist\, and in 2011\, a Telluride Troubadour Finalist. The Boston Herald named her song &quot\;The Picture&quot\; &quot\;Best Political Country Song&quot\; in their 2009 Year&#39\;s best music. Her music has been featured in commercials and Animal Planet\, and the Smithsonian Institution&#39\;s exhibit New Harmonies: Celebrating American Root&#39\;s Music.</p>\n
LOCATION:Paris Avenue Port Royal
UID:e.1212.4992
SEQUENCE:3
DTSTAMP:20260422T012414Z
URL:http://business.beaufortchamber.org/events/details/streetmusic-in-port-royal-paris-avenue-06-29-2013-4992
END:VEVENT

END:VCALENDAR
