BEGIN:VCALENDAR
VERSION:2.0
PRODID:-//ChamberMaster//Event Calendar 2.0//EN
METHOD:PUBLISH
X-PUBLISHED-TTL:P3D
REFRESH-INTERVAL:P3D
CALSCALE:GREGORIAN
BEGIN:VEVENT
DTSTART;VALUE=DATE:20090313
DTEND;VALUE=DATE:20090314
TRANSP:TRANSPARENT
X-MICROSOFT-CDO-ALLDAYEVENT:TRUE
SUMMARY:Sunset at Bateaux
DESCRIPTION:Every Friday starting March 13 from 5pm-8pm.  Great specials on drinks and snacks.  Awesome live music from local talent.
X-ALT-DESC;FMTTYPE=text/html:Every Friday starting March 13 from 5pm-8pm.  Great specials on drinks and snacks.  Awesome live music from local talent.
LOCATION:
UID:e.1212.3055
SEQUENCE:3
DTSTAMP:20260425T111349Z
URL:http://business.beaufortchamber.org/events/details/sunset-at-bateaux-03-13-2009-3055
END:VEVENT

END:VCALENDAR
