BEGIN:VCALENDAR
VERSION:2.0
PRODID:-//ChamberMaster//Event Calendar 2.0//EN
METHOD:PUBLISH
X-PUBLISHED-TTL:P3D
REFRESH-INTERVAL:P3D
CALSCALE:GREGORIAN
BEGIN:VEVENT
DTSTART;VALUE=DATE:20090310
DTEND;VALUE=DATE:20090311
TRANSP:TRANSPARENT
X-MICROSOFT-CDO-ALLDAYEVENT:TRUE
SUMMARY:Sunset at Bateaux - Preview Party
DESCRIPTION:Bateaux just can't wait any longer to break-in the patio.  Enjoy a free wine and beer tasting\, delicious snacks\, and live entertainment.  Please RSVP to 843-379-0777 or email melissa@bateauxrestaurant.com
X-ALT-DESC;FMTTYPE=text/html:Bateaux just can't wait any longer to break-in the patio.  Enjoy a free wine and beer tasting\, delicious snacks\, and live entertainment.  Please RSVP to 843-379-0777 or email melissa@bateauxrestaurant.com
LOCATION:
UID:e.1212.3054
SEQUENCE:3
DTSTAMP:20260425T111645Z
URL:http://business.beaufortchamber.org/events/details/sunset-at-bateaux-preview-party-03-10-2009-3054
END:VEVENT

END:VCALENDAR
