BEGIN:VCALENDAR
VERSION:2.0
PRODID:-//ChamberMaster//Event Calendar 2.0//EN
METHOD:PUBLISH
X-PUBLISHED-TTL:P3D
REFRESH-INTERVAL:P3D
CALSCALE:GREGORIAN
BEGIN:VEVENT
DTSTART:20130702T170000Z
DTEND:20130702T190000Z
X-MICROSOFT-CDO-ALLDAYEVENT:FALSE
SUMMARY:Sunset Slush of Beaufort - Ribbon Cutting
DESCRIPTION:Grand Opening and Ribbon Cutting\n\nHabersham Marketplace\n\n8A-1 Market\, Beaufort\n\n\n\nFree - come enjoy the variety of Italian Ice Flavors\n\nRemote by 94.5 The Coast
X-ALT-DESC;FMTTYPE=text/html:Grand Opening and Ribbon Cutting<br />\nHabersham Marketplace<br />\n8A-1 Market\, Beaufort<br />\n<br />\nFree - come enjoy the variety of Italian Ice Flavors<br />\nRemote by 94.5 The Coast
LOCATION:Habersham Marketplace 8A-1 Market\, Beaufort
UID:e.1212.5032
SEQUENCE:3
DTSTAMP:20260421T232850Z
URL:http://business.beaufortchamber.org/events/details/sunset-slush-of-beaufort-ribbon-cutting-07-02-2013-5032
END:VEVENT

END:VCALENDAR
