BEGIN:VCALENDAR
VERSION:2.0
PRODID:-//ChamberMaster//Event Calendar 2.0//EN
METHOD:PUBLISH
X-PUBLISHED-TTL:P3D
REFRESH-INTERVAL:P3D
CALSCALE:GREGORIAN
BEGIN:VEVENT
DTSTART;VALUE=DATE:20121020
DTEND;VALUE=DATE:20121021
TRANSP:TRANSPARENT
X-MICROSOFT-CDO-ALLDAYEVENT:TRUE
SUMMARY:Swamp Romp - The Lowcountry's Dirtiest Race
DESCRIPTION:Check out the lowcountry's dirtiest race\, the Swamp Romp! The race will take place on October 20th at MCRD Parris Island.\n\n \n\nThis isn't your run-of-the-mill mud run! While military discount is available\, this race is especially amazing because it's open to the public. It is a rare opportunity to see some behind the scenes areas of Parris Island (Marine Corps Recruit Depot  this is where "We Make Marines!").\n\n \n\nSwamp Romp is a 5 mile total sensory experience. Become immersed in combat scenarios and sound effects as you run through the swamp\, wade through mud pits and overcome obstacles. Like Swamp Romp on Facebook to see photos of previous races! (Facebook.com/SwampRomp)
X-ALT-DESC;FMTTYPE=text/html:<span style="font-size: 12px"><span style="font-family: arial">Check out the lowcountry&#39\;s dirtiest race\, the Swamp Romp! The race will take place on October 20th at MCRD Parris Island.<br />\n&nbsp\;<br />\nThis isn&#39\;t your run-of-the-mill mud run! While military discount is available\, this race is especially amazing because it&rsquo\;s open to the public. It is a rare opportunity to see some behind the scenes areas of Parris Island (Marine Corps Recruit Depot&mdash\; this is where &ldquo\;We Make Marines!&rdquo\;).<br />\n&nbsp\;<br />\nSwamp Romp is a 5 mile total sensory experience. Become immersed in combat scenarios and sound effects as you run through the swamp\, wade through mud pits and overcome obstacles. Like Swamp Romp on Facebook to see photos of previous races! (Facebook.com/SwampRomp)&nbsp\;</span></span><br />\n
LOCATION:Marine Corps Recruit Depot - Parris Island
UID:e.1212.4622
SEQUENCE:3
DTSTAMP:20260422T152835Z
URL:http://business.beaufortchamber.org/events/details/swamp-romp-the-lowcountry-s-dirtiest-race-10-20-2012-4622
END:VEVENT

END:VCALENDAR
