BEGIN:VCALENDAR
VERSION:2.0
PRODID:-//ChamberMaster//Event Calendar 2.0//EN
METHOD:PUBLISH
X-PUBLISHED-TTL:P3D
REFRESH-INTERVAL:P3D
CALSCALE:GREGORIAN
BEGIN:VEVENT
DTSTART:20140412T180000Z
DTEND:20140413T000000Z
X-MICROSOFT-CDO-ALLDAYEVENT:FALSE
SUMMARY:Tailgate Extravaganza
DESCRIPTION:Please join the Lowcountry Jaycees as they host a Tailgate Extravaganza. The event includes food\, drinks\, $200 Grand Prize Corn Hole Tournament\, live music  from "Bootless\," Bounce Houses and much more!!
X-ALT-DESC;FMTTYPE=text/html:Please join the Lowcountry Jaycees as they host a Tailgate Extravaganza. The event includes food\, drinks\, $200 Grand Prize Corn Hole Tournament\, live music&nbsp\; from &quot\;Bootless\,&quot\; Bounce Houses and much more!!
LOCATION:Live Oaks Park in Port Royal
UID:e.1212.5324
SEQUENCE:3
DTSTAMP:20260421T083457Z
URL:http://business.beaufortchamber.org/events/details/tailgate-extravaganza-04-12-2014-5324
END:VEVENT

END:VCALENDAR
