BEGIN:VCALENDAR
VERSION:2.0
PRODID:-//ChamberMaster//Event Calendar 2.0//EN
METHOD:PUBLISH
X-PUBLISHED-TTL:P3D
REFRESH-INTERVAL:P3D
CALSCALE:GREGORIAN
BEGIN:VEVENT
DTSTART;VALUE=DATE:20130412
DTEND;VALUE=DATE:20130413
TRANSP:TRANSPARENT
X-MICROSOFT-CDO-ALLDAYEVENT:TRUE
SUMMARY:Take Back the Night - Hope Haven
DESCRIPTION:Take Back the Night\n\n	Friday\, Apr 12 7:00p \n\n	Henry C. Chambers Waterfront Park Beaufort\, SC \n\n	\n		Through spoken words of hope and healing from survivors\, performers\, and speakers young and old\, and slam poets with their poetry to raise awareness\, we will shatter the silence of child abuse and sexual violence. Lighting of luminaries will follow the event to honor the 473 survivors Hope Haven served in 2012. Join us for a night of hope and inspiration! For more information\, please contact Leigh-Ann Shoupe at (843) 524-2256.\n\n\n\nFREE - Suitable for all ages
X-ALT-DESC;FMTTYPE=text/html:<span class="summary">Take Back the Night</span>\n<div class="date">\n	<abbr class="dtstart" title="2013-04-12T23:00:00Z">Friday\, Apr 12 7:00p </abbr></div>\n<div class="venue">\n	<a data-z-destination-venue-id="649655" data-z-event-id="316998463" href="http://events.postandcourier.com/beaufort_sc/venues/show/649655-henry-c-chambers-waterfront-park">Henry C. Chambers Waterfront Park</a><span class="adr"> <span class="locality">Beaufort</span>\, <span class="region">SC</span> </span></div>\n<div class="description">\n	<p>\n		Through spoken words of hope and healing from survivors\, performers\, and speakers young and old\, and slam poets with their poetry to raise awareness\, we will shatter the silence of child abuse and sexual violence. Lighting of luminaries will follow the event to honor the 473 survivors Hope Haven served in 2012. Join us for a night of hope and inspiration! For more information\, please contact Leigh-Ann Shoupe at (843) 524-2256.</p>\n</div>\n<br />\nFREE - Suitable for all ages
LOCATION:Henry C. Chambers Waterfront Park\, Beaufort SC
UID:e.1212.4968
SEQUENCE:3
DTSTAMP:20260422T050621Z
URL:http://business.beaufortchamber.org/events/details/take-back-the-night-hope-haven-04-12-2013-4968
END:VEVENT

END:VCALENDAR
