BEGIN:VCALENDAR
VERSION:2.0
PRODID:-//ChamberMaster//Event Calendar 2.0//EN
METHOD:PUBLISH
X-PUBLISHED-TTL:P3D
REFRESH-INTERVAL:P3D
CALSCALE:GREGORIAN
BEGIN:VEVENT
DTSTART:20121013T220000Z
DTEND:20121014T010000Z
X-MICROSOFT-CDO-ALLDAYEVENT:FALSE
SUMMARY:Technical College of the Lowcountry Foundation - Oysters By the Bay
DESCRIPTION:Overlooking the Beaufort River.  All proceeds go to supporting students and programs at TCL.  An oyster cooker and three oyster tables\, hand-crafted by TCL faculty and students\, will be raffled.  $25 for oysters\, chili and hotdogs\; Beer will also be available for purchase.
X-ALT-DESC;FMTTYPE=text/html:Overlooking the Beaufort River.&nbsp\; All proceeds go to supporting students and programs at TCL.&nbsp\; An oyster cooker and three oyster tables\, hand-crafted by TCL faculty and students\, will be raffled.&nbsp\; $25 for oysters\, chili and hotdogs\; Beer will also be available for purchase.
LOCATION:TCL Beaufort Campus\, 921 Ribaut Road\, Beaufort
UID:e.1212.4536
SEQUENCE:3
DTSTAMP:20260422T152054Z
URL:http://business.beaufortchamber.org/events/details/technical-college-of-the-lowcountry-foundation-oysters-by-the-bay-10-13-2012-4536
END:VEVENT

END:VCALENDAR
