BEGIN:VCALENDAR
VERSION:2.0
PRODID:-//ChamberMaster//Event Calendar 2.0//EN
METHOD:PUBLISH
X-PUBLISHED-TTL:P3D
REFRESH-INTERVAL:P3D
CALSCALE:GREGORIAN
BEGIN:VEVENT
DTSTART;VALUE=DATE:20081202
DTEND;VALUE=DATE:20081203
TRANSP:TRANSPARENT
X-MICROSOFT-CDO-ALLDAYEVENT:TRUE
SUMMARY:Technology & Innovation Center Grand Opening
DESCRIPTION:A newly created signature center with new computer hardware equipment\, educational software and innovative products and services.  This includes high-speed internet\, allows more children access to computers and opens up educational avenues.  Open to the public.
X-ALT-DESC;FMTTYPE=text/html:A newly created signature center with new computer hardware equipment\, educational software and innovative products and services.  This includes high-speed internet\, allows more children access to computers and opens up educational avenues.  Open to the public.
LOCATION:
UID:e.1212.2848
SEQUENCE:3
DTSTAMP:20260425T141219Z
URL:http://business.beaufortchamber.org/events/details/technology-innovation-center-grand-opening-12-02-2008-2848
END:VEVENT

END:VCALENDAR
