BEGIN:VCALENDAR
VERSION:2.0
PRODID:-//ChamberMaster//Event Calendar 2.0//EN
METHOD:PUBLISH
X-PUBLISHED-TTL:P3D
REFRESH-INTERVAL:P3D
CALSCALE:GREGORIAN
BEGIN:VEVENT
DTSTART:20131018T210000Z
DTEND:20131018T223000Z
X-MICROSOFT-CDO-ALLDAYEVENT:FALSE
SUMMARY:Teen After Hours: Book Trailers 101 - Hilton Head Library
DESCRIPTION:Event Name: Teens After Hours:  Book Trailers 101\n\nShort Description of Event:  In celebration of Teen Read Week\, we're hanging out and creating video  book trailers for some of our favorite books and authors.  You must have a signed permission slip for this after-hours event! Junk food available. For students 6th grade and up.\n\nTime and Date of Event:  Friday\, October 18\, 2013  from 5:00-6:30\n\nLocation of Event:  Hilton Head Library\, 11 Beach City Road\, Hilton Head SC 29926\n\nPrice of Event: Free\n\nContact info: 843-255-6529\, gcrispell@bcgov.net\n\nWebsite:    www.beaufortcountylibrary.org
X-ALT-DESC;FMTTYPE=text/html:<span style="font-size: medium\;"><span style="font-family: calibri\;"><strong>Event Name:</strong>&nbsp\;Teens After Hours:&nbsp\; Book Trailers 101</span></span><br />\n<span style="font-size: medium\;"><span style="font-family: calibri\;"><strong>Short Description of Event:</strong>&nbsp\; In celebration of Teen Read Week\, we&rsquo\;re hanging out and creating video&nbsp\; book trailers for some of our favorite books and authors.&nbsp\; You must have a signed permission slip for this after-hours event! Junk food available. For students 6<sup><span style="font-size: small\;">th</span></sup></span> grade and up.</span><br />\n<span style="font-size: medium\;"><span style="font-family: calibri\;"><strong>Time and Date of Event:</strong>&nbsp\; Friday\, October 18\, 2013&nbsp\; from 5:00-6:30</span></span><br />\n<span style="font-size: medium\;"><span style="font-family: calibri\;"><strong>Location of Event:</strong>&nbsp\; Hilton Head Library\, 11 Beach City Road\, Hilton Head SC 29926</span></span><br />\n<span style="font-size: medium\;"><span style="font-family: calibri\;"><strong>Price of Event: </strong>Free</span></span><br />\n<span style="font-size: medium\;"><span style="font-family: calibri\;"><strong>Contact info:</strong> 843-255-6529\, </span></span><a href="mailto:gcrispell@bcgov.net"><span style="font-size: medium\;"><span style="font-family: calibri\;"><span style="color: rgb(0\, 0\, 255)\;">gcrispell@bcgov.net</span></span></span></a><br />\n<strong><span style="font-size: 11pt\;"><span style="font-family: calibri\,sans-serif\;">Website:&nbsp\; </span></span></strong><span style="font-size: 11pt\;"><span style="font-family: calibri\,sans-serif\;">&nbsp\;&nbsp\;<a href="http://www.beaufortcountylibrary.org/"><span style="color: rgb(0\, 0\, 255)\;">www.beaufortcountylibrary.org</span></a></span></span>
LOCATION:
UID:e.1212.5067
SEQUENCE:3
DTSTAMP:20260421T182131Z
URL:http://business.beaufortchamber.org/events/details/teen-after-hours-book-trailers-101-hilton-head-library-10-18-2013-5067
END:VEVENT

END:VCALENDAR
