BEGIN:VCALENDAR
VERSION:2.0
PRODID:-//ChamberMaster//Event Calendar 2.0//EN
METHOD:PUBLISH
X-PUBLISHED-TTL:P3D
REFRESH-INTERVAL:P3D
CALSCALE:GREGORIAN
BEGIN:VEVENT
DTSTART;VALUE=DATE:20111124
DTEND;VALUE=DATE:20111125
TRANSP:TRANSPARENT
X-MICROSOFT-CDO-ALLDAYEVENT:TRUE
SUMMARY:Thanksgiving Dinner at Sanctuary Golf Club at Cat Island
DESCRIPTION:Please Join us at Cat Island Grill and Pub (located in Sanctuary Golf Club)\n\n	for our Thanksgiving Buffet!\n\n	Only $19.95 per person\, Children 6 - 12 are $9.95\n\n	and Children under 5 are FREE!\n\n	\n\n	Reservations Available from 12:00pm - 4:00pm\n\n	CALL 524-4653 Now!
X-ALT-DESC;FMTTYPE=text/html:<p style="text-align: center">\n	<span style="font-family: verdana"><strong><span style="color: #0000ff"><span style="background-color: #ffffff">Please Join us at Cat Island Grill and Pub (located in Sanctuary Golf Club)<br />\n	for our Thanksgiving Buffet!</span><br />\n	<span style="background-color: #ffffff">Only $19.95 per person\, Children 6 - 12 are $9.95<br />\n	and Children under 5 are FREE!<br />\n	<br />\n	Reservations Available from 12:00pm - 4:00pm<br />\n	<span style="font-size: 16px">CALL 524-4653 </span>Now!</span></span></strong></span></p>\n
LOCATION:Cat Island Grill and Pub - located within Sanctuary Golf Club
UID:e.1212.4336
SEQUENCE:3
DTSTAMP:20260423T074825Z
URL:http://business.beaufortchamber.org/events/details/thanksgiving-dinner-at-sanctuary-golf-club-at-cat-island-11-24-2011-4336
END:VEVENT

END:VCALENDAR
