BEGIN:VCALENDAR
VERSION:2.0
PRODID:-//ChamberMaster//Event Calendar 2.0//EN
METHOD:PUBLISH
X-PUBLISHED-TTL:P3D
REFRESH-INTERVAL:P3D
CALSCALE:GREGORIAN
BEGIN:VEVENT
DTSTART;VALUE=DATE:20090722
DTEND;VALUE=DATE:20090723
TRANSP:TRANSPARENT
X-MICROSOFT-CDO-ALLDAYEVENT:TRUE
SUMMARY:The Arts Council of Beaufort County Annual Meeting
DESCRIPTION:Join us for a short and enjoyable visual report\, cooling refreshments\, a fast-n-furious reinstated art auction\, meet the ACBC staff\, board members and other art supporters.  We will also be presenting the Jasmine Community Arts Awards to some extremely gifted and giving individuals.
X-ALT-DESC;FMTTYPE=text/html:Join us for a short and enjoyable visual report\, cooling refreshments\, a fast-n-furious reinstated art auction\, meet the ACBC staff\, board members and other art supporters.  We will also be presenting the Jasmine Community Arts Awards to some extremely gifted and giving individuals.
LOCATION:
UID:e.1212.3362
SEQUENCE:3
DTSTAMP:20260425T025413Z
URL:http://business.beaufortchamber.org/events/details/the-arts-council-of-beaufort-county-annual-meeting-07-22-2009-3362
END:VEVENT

END:VCALENDAR
