BEGIN:VCALENDAR
VERSION:2.0
PRODID:-//ChamberMaster//Event Calendar 2.0//EN
METHOD:PUBLISH
X-PUBLISHED-TTL:P3D
REFRESH-INTERVAL:P3D
CALSCALE:GREGORIAN
BEGIN:VEVENT
DTSTART;VALUE=DATE:20090227
DTEND;VALUE=DATE:20090228
TRANSP:TRANSPARENT
X-MICROSOFT-CDO-ALLDAYEVENT:TRUE
SUMMARY:The Beaufort Orchestra - German Giants
DESCRIPTION:Mendelssohn Midsummer Night's Dream Overture\, Reinecke Flute Concerto in D Major\, featuring flutist\, Sarah Wagner and Beethoven Sympany #6 in F Major "Pastoral".  All tickets $30 at the door.
X-ALT-DESC;FMTTYPE=text/html:Mendelssohn Midsummer Night's Dream Overture\, Reinecke Flute Concerto in D Major\, featuring flutist\, Sarah Wagner and Beethoven Sympany #6 in F Major "Pastoral".  All tickets $30 at the door.
LOCATION:
UID:e.1212.2551
SEQUENCE:3
DTSTAMP:20260425T112447Z
URL:http://business.beaufortchamber.org/events/details/the-beaufort-orchestra-german-giants-02-27-2009-2551
END:VEVENT

END:VCALENDAR
