BEGIN:VCALENDAR
VERSION:2.0
PRODID:-//ChamberMaster//Event Calendar 2.0//EN
METHOD:PUBLISH
X-PUBLISHED-TTL:P3D
REFRESH-INTERVAL:P3D
CALSCALE:GREGORIAN
BEGIN:VEVENT
DTSTART;VALUE=DATE:20081207
DTEND;VALUE=DATE:20081208
TRANSP:TRANSPARENT
X-MICROSOFT-CDO-ALLDAYEVENT:TRUE
SUMMARY:The Beaufort Orchestra - Holiday Season Choral Works
DESCRIPTION:Featuring the choir from Beaufort High School and Vic Varner\, director.  All tickets $30 at the door.
X-ALT-DESC;FMTTYPE=text/html:Featuring the choir from Beaufort High School and Vic Varner\, director.  All tickets $30 at the door.
LOCATION:
UID:e.1212.2550
SEQUENCE:3
DTSTAMP:20260425T152527Z
URL:http://business.beaufortchamber.org/events/details/the-beaufort-orchestra-holiday-season-choral-works-12-07-2008-2550
END:VEVENT

END:VCALENDAR
