BEGIN:VCALENDAR
VERSION:2.0
PRODID:-//ChamberMaster//Event Calendar 2.0//EN
METHOD:PUBLISH
X-PUBLISHED-TTL:P3D
REFRESH-INTERVAL:P3D
CALSCALE:GREGORIAN
BEGIN:VEVENT
DTSTART;VALUE=DATE:20100509
DTEND;VALUE=DATE:20100510
TRANSP:TRANSPARENT
X-MICROSOFT-CDO-ALLDAYEVENT:TRUE
SUMMARY:The Beaufort Orchestra Season - From Russia (and Hollywood) with Love
DESCRIPTION:Tchaikovsky\, Romeo & Juliet - Phantom of the Opera & Titanic.  You may purchase tickets on line as well as find the cost\, seating chart and schedule.  All tickets $30 at the door.
X-ALT-DESC;FMTTYPE=text/html:Tchaikovsky\, Romeo & Juliet - Phantom of the Opera & Titanic.  You may purchase tickets on line as well as find the cost\, seating chart and schedule.  All tickets $30 at the door.
LOCATION:
UID:e.1212.3431
SEQUENCE:3
DTSTAMP:20260424T122559Z
URL:http://business.beaufortchamber.org/events/details/the-beaufort-orchestra-season-from-russia-and-hollywood-with-love-05-09-2010-3431
END:VEVENT

END:VCALENDAR
