BEGIN:VCALENDAR
VERSION:2.0
PRODID:-//ChamberMaster//Event Calendar 2.0//EN
METHOD:PUBLISH
X-PUBLISHED-TTL:P3D
REFRESH-INTERVAL:P3D
CALSCALE:GREGORIAN
BEGIN:VEVENT
DTSTART;VALUE=DATE:20091220
DTEND;VALUE=DATE:20091221
TRANSP:TRANSPARENT
X-MICROSOFT-CDO-ALLDAYEVENT:TRUE
SUMMARY:The Beaufort Orchestra Season - Holiday Treats
DESCRIPTION:Nutcracker & Pops Selections.   You may purchase tickets on line as well as find the cost\, seating chart and schedule.  All tickets $30 at the door.
X-ALT-DESC;FMTTYPE=text/html:Nutcracker & Pops Selections.   You may purchase tickets on line as well as find the cost\, seating chart and schedule.  All tickets $30 at the door.
LOCATION:
UID:e.1212.3427
SEQUENCE:3
DTSTAMP:20260424T194024Z
URL:http://business.beaufortchamber.org/events/details/the-beaufort-orchestra-season-holiday-treats-12-20-2009-3427
END:VEVENT

END:VCALENDAR
