BEGIN:VCALENDAR
VERSION:2.0
PRODID:-//ChamberMaster//Event Calendar 2.0//EN
METHOD:PUBLISH
X-PUBLISHED-TTL:P3D
REFRESH-INTERVAL:P3D
CALSCALE:GREGORIAN
BEGIN:VEVENT
DTSTART;VALUE=DATE:20100307
DTEND;VALUE=DATE:20100308
TRANSP:TRANSPARENT
X-MICROSOFT-CDO-ALLDAYEVENT:TRUE
SUMMARY:The Beaufort Orchestra Season - Romantic Masterpieces
DESCRIPTION:Brahms Violin Concerto\, Tamas Kocsis\, Violinist\, Dvorak Symphony # 9.  You may purchase tickets on line as well as find the cost\, seating chart and schedule.  All tickets $30 at the door.
X-ALT-DESC;FMTTYPE=text/html:Brahms Violin Concerto\, Tamas Kocsis\, Violinist\, Dvorak Symphony # 9.  You may purchase tickets on line as well as find the cost\, seating chart and schedule.  All tickets $30 at the door.
LOCATION:
UID:e.1212.3429
SEQUENCE:3
DTSTAMP:20260424T154852Z
URL:http://business.beaufortchamber.org/events/details/the-beaufort-orchestra-season-romantic-masterpieces-03-07-2010-3429
END:VEVENT

END:VCALENDAR
