BEGIN:VCALENDAR
VERSION:2.0
PRODID:-//ChamberMaster//Event Calendar 2.0//EN
METHOD:PUBLISH
X-PUBLISHED-TTL:P3D
REFRESH-INTERVAL:P3D
CALSCALE:GREGORIAN
BEGIN:VEVENT
DTSTART;VALUE=DATE:20091015
DTEND;VALUE=DATE:20091016
TRANSP:TRANSPARENT
X-MICROSOFT-CDO-ALLDAYEVENT:TRUE
SUMMARY:The Beaufort Orchestra Season - Two Fifths of Beethoven
DESCRIPTION:Concerto #5 "Emperor"\, Daniel Adni\, Pianist\, Symphony #5.  You may purchase tickets on line as well as find the cost\, seating chart and schedule.  All tickets $30 at the door.
X-ALT-DESC;FMTTYPE=text/html:Concerto #5 "Emperor"\, Daniel Adni\, Pianist\, Symphony #5.  You may purchase tickets on line as well as find the cost\, seating chart and schedule.  All tickets $30 at the door.
LOCATION:
UID:e.1212.3424
SEQUENCE:3
DTSTAMP:20260424T221844Z
URL:http://business.beaufortchamber.org/events/details/the-beaufort-orchestra-season-two-fifths-of-beethoven-10-15-2009-3424
END:VEVENT

END:VCALENDAR
