BEGIN:VCALENDAR
VERSION:2.0
PRODID:-//ChamberMaster//Event Calendar 2.0//EN
METHOD:PUBLISH
X-PUBLISHED-TTL:P3D
REFRESH-INTERVAL:P3D
CALSCALE:GREGORIAN
BEGIN:VEVENT
DTSTART;VALUE=DATE:20081214
DTEND;VALUE=DATE:20081215
TRANSP:TRANSPARENT
X-MICROSOFT-CDO-ALLDAYEVENT:TRUE
SUMMARY:The Best Christmas Pageant Ever
DESCRIPTION:Barbara Robinson presents "The Best Christmas Pageant Ever".      Free and open to the public.
X-ALT-DESC;FMTTYPE=text/html:Barbara Robinson presents "The Best Christmas Pageant Ever".      Free and open to the public.
LOCATION:
UID:e.1212.2823
SEQUENCE:3
DTSTAMP:20260425T141309Z
URL:http://business.beaufortchamber.org/events/details/the-best-christmas-pageant-ever-12-14-2008-2823
END:VEVENT

END:VCALENDAR
