BEGIN:VCALENDAR
VERSION:2.0
PRODID:-//ChamberMaster//Event Calendar 2.0//EN
METHOD:PUBLISH
X-PUBLISHED-TTL:P3D
REFRESH-INTERVAL:P3D
CALSCALE:GREGORIAN
BEGIN:VEVENT
DTSTART;VALUE=DATE:20090710
DTEND;VALUE=DATE:20090711
TRANSP:TRANSPARENT
X-MICROSOFT-CDO-ALLDAYEVENT:TRUE
SUMMARY:The Blood Alliance Blood Drive
DESCRIPTION:Beaufort County needs your help. Summertime is a time when donations are currently low.   Stop by and donate today\, register on line or call for an appointment.  The Need is constant.   Please "Give Blood" today!
X-ALT-DESC;FMTTYPE=text/html:Beaufort County needs your help. Summertime is a time when donations are currently low.   Stop by and donate today\, register on line or call for an appointment.  The Need is constant.   Please "Give Blood" today!
LOCATION:
UID:e.1212.3357
SEQUENCE:3
DTSTAMP:20260425T025244Z
URL:http://business.beaufortchamber.org/events/details/the-blood-alliance-blood-drive-07-10-2009-3357
END:VEVENT

END:VCALENDAR
