BEGIN:VCALENDAR
VERSION:2.0
PRODID:-//ChamberMaster//Event Calendar 2.0//EN
METHOD:PUBLISH
X-PUBLISHED-TTL:P3D
REFRESH-INTERVAL:P3D
CALSCALE:GREGORIAN
BEGIN:VEVENT
DTSTART;VALUE=DATE:20091204
DTEND;VALUE=DATE:20091205
TRANSP:TRANSPARENT
X-MICROSOFT-CDO-ALLDAYEVENT:TRUE
SUMMARY:The Blood Alliance Blood Drive - Naval Hospital Beaufort
DESCRIPTION:Beaufort County needs your help. Stop by and donate today\, register on line or call for an appointment.  The Need is constant.   Please "Give Blood" today!
X-ALT-DESC;FMTTYPE=text/html:Beaufort County needs your help. Stop by and donate today\, register on line or call for an appointment.  The Need is constant.   Please "Give Blood" today!
LOCATION:
UID:e.1212.3704
SEQUENCE:3
DTSTAMP:20260424T194102Z
URL:http://business.beaufortchamber.org/events/details/the-blood-alliance-blood-drive-naval-hospital-beaufort-12-04-2009-3704
END:VEVENT

END:VCALENDAR
