BEGIN:VCALENDAR
VERSION:2.0
PRODID:-//ChamberMaster//Event Calendar 2.0//EN
METHOD:PUBLISH
X-PUBLISHED-TTL:P3D
REFRESH-INTERVAL:P3D
CALSCALE:GREGORIAN
BEGIN:VEVENT
DTSTART;VALUE=DATE:20090211
DTEND;VALUE=DATE:20090212
TRANSP:TRANSPARENT
X-MICROSOFT-CDO-ALLDAYEVENT:TRUE
SUMMARY:The Golden Dragon Acrobats - Cirque D'OR
DESCRIPTION:The Golden Dragons are recognized throughout the US and abroad as the premier Chinese acrobatic touring company of today.   For questions or tickets\, please call the number listed.  Individual tickets are $40\, $35 and $30.
X-ALT-DESC;FMTTYPE=text/html:The Golden Dragons are recognized throughout the US and abroad as the premier Chinese acrobatic touring company of today.   For questions or tickets\, please call the number listed.  Individual tickets are $40\, $35 and $30.
LOCATION:
UID:e.1212.2519
SEQUENCE:3
DTSTAMP:20260425T112407Z
URL:http://business.beaufortchamber.org/events/details/the-golden-dragon-acrobats-cirque-d-or-02-11-2009-2519
END:VEVENT

END:VCALENDAR
