BEGIN:VCALENDAR
VERSION:2.0
PRODID:-//ChamberMaster//Event Calendar 2.0//EN
METHOD:PUBLISH
X-PUBLISHED-TTL:P3D
REFRESH-INTERVAL:P3D
CALSCALE:GREGORIAN
BEGIN:VEVENT
DTSTART;VALUE=DATE:20091020
DTEND;VALUE=DATE:20091021
TRANSP:TRANSPARENT
X-MICROSOFT-CDO-ALLDAYEVENT:TRUE
SUMMARY:The Great Pumpkin Patch
DESCRIPTION:We offer field trips and tours for schools\, churches\, scout troops and other types of groups.\nSpecial night rides with hot dog and marhmallow roasts are available for groups of 12. \nThere will be a bounce house\, race track\, calf roping\, cow milking\, duck racing\, barnyard zoo\, general store and more !  \nCall for reservations\nCost Adult $5    Children $7  Includes: hayride\, choice of pumpkin and all activities\nHours:  Monday - Saturday 9:00am - dark  -  Last hay ride leaves at 6:00pm
X-ALT-DESC;FMTTYPE=text/html:We offer field trips and tours for schools\, churches\, scout troops and other types of groups.\nSpecial night rides with hot dog and marhmallow roasts are available for groups of 12. \nThere will be a bounce house\, race track\, calf roping\, cow milking\, duck racing\, barnyard zoo\, general store and more !  \nCall for reservations\nCost Adult $5    Children $7  Includes: hayride\, choice of pumpkin and all activities\nHours:  Monday - Saturday 9:00am - dark  -  Last hay ride leaves at 6:00pm
LOCATION:
UID:e.1212.3641
SEQUENCE:3
DTSTAMP:20260424T232657Z
URL:http://business.beaufortchamber.org/events/details/the-great-pumpkin-patch-10-20-2009-3641
END:VEVENT

END:VCALENDAR
