BEGIN:VCALENDAR
VERSION:2.0
PRODID:-//ChamberMaster//Event Calendar 2.0//EN
METHOD:PUBLISH
X-PUBLISHED-TTL:P3D
REFRESH-INTERVAL:P3D
CALSCALE:GREGORIAN
BEGIN:VEVENT
DTSTART;VALUE=DATE:20100921
DTEND;VALUE=DATE:20100922
TRANSP:TRANSPARENT
X-MICROSOFT-CDO-ALLDAYEVENT:TRUE
SUMMARY:The Hartford Endorsement Eff 1/1/10
DESCRIPTION:Money paid to us for endorsement
X-ALT-DESC;FMTTYPE=text/html:Money paid to us for endorsement
LOCATION:
UID:e.1212.3855
SEQUENCE:3
DTSTAMP:20260424T053855Z
URL:http://business.beaufortchamber.org/events/details/the-hartford-endorsement-eff-1-1-10-09-21-2010-3855
END:VEVENT

END:VCALENDAR
