BEGIN:VCALENDAR
VERSION:2.0
PRODID:-//ChamberMaster//Event Calendar 2.0//EN
METHOD:PUBLISH
X-PUBLISHED-TTL:P3D
REFRESH-INTERVAL:P3D
CALSCALE:GREGORIAN
BEGIN:VEVENT
DTSTART;VALUE=DATE:20120218
DTEND;VALUE=DATE:20120219
TRANSP:TRANSPARENT
X-MICROSOFT-CDO-ALLDAYEVENT:TRUE
SUMMARY:The Mary Green Chorale\, This Shining Night ? A Midwinter Celebration
DESCRIPTION:Music of Bach\, Barber\, Bernstein & Ramirez to benefit NAMI (National Alliance on Mental Illness) including outreach to veterans and military families.\n\n\n\nA chamber chorus of select singers from the lowcountry featuring:\n\nLaura Sutton Floyd: Soprano\n\nAlan Lathan: Tenor\, Richard Johnson: Baritone\, Thomas Vasil: Baritone\n\nRussel Floyd: Guitar\, David Kimbell: Cello & Bass\n\nJonathan Davis: Piano\, Keyboard & Organ\n\n\n\nProgram:\n\nBarber: Sure on this Shining Night\n\nBach: The Coffee Cantata\n\nBernstein: Chichester Psalms:III
X-ALT-DESC;FMTTYPE=text/html:Music of Bach\, Barber\, Bernstein &amp\; Ramirez to benefit NAMI (National Alliance on Mental Illness) including outreach to veterans and military families.<br />\n<br />\nA chamber chorus of select singers from the lowcountry featuring:<br />\nLaura Sutton Floyd: Soprano<br />\nAlan Lathan: Tenor\, Richard Johnson: Baritone\, Thomas Vasil: Baritone<br />\nRussel Floyd: Guitar\, David Kimbell: Cello &amp\; Bass<br />\nJonathan Davis: Piano\, Keyboard &amp\; Organ<br />\n<br />\nProgram:<br />\nBarber: Sure on this Shining Night<br />\nBach: The Coffee Cantata<br />\nBernstein: Chichester Psalms:III
LOCATION:All Saints Episcopal Church 3001 Meeting Street\, Hilton Head Island
UID:e.1212.4496
SEQUENCE:3
DTSTAMP:20260423T040922Z
URL:http://business.beaufortchamber.org/events/details/the-mary-green-chorale-this-shining-night-a-midwinter-celebration-02-18-2012-4496
END:VEVENT

END:VCALENDAR
