BEGIN:VCALENDAR
VERSION:2.0
PRODID:-//ChamberMaster//Event Calendar 2.0//EN
METHOD:PUBLISH
X-PUBLISHED-TTL:P3D
REFRESH-INTERVAL:P3D
CALSCALE:GREGORIAN
BEGIN:VEVENT
DTSTART;VALUE=DATE:20090319
DTEND;VALUE=DATE:20090320
TRANSP:TRANSPARENT
X-MICROSOFT-CDO-ALLDAYEVENT:TRUE
SUMMARY:The Moscow Cat Circus
DESCRIPTION:35 cats\, 1 dog and 5 clowns!  A great family show.  Tickets are $40\, $35 and $30.  Children's tickets for ages 1 through 12th grade are half price.  For questions or individual tickets\,please call the number listed below.
X-ALT-DESC;FMTTYPE=text/html:35 cats\, 1 dog and 5 clowns!  A great family show.  Tickets are $40\, $35 and $30.  Children's tickets for ages 1 through 12th grade are half price.  For questions or individual tickets\,please call the number listed below.
LOCATION:
UID:e.1212.2522
SEQUENCE:3
DTSTAMP:20260425T112357Z
URL:http://business.beaufortchamber.org/events/details/the-moscow-cat-circus-03-19-2009-2522
END:VEVENT

END:VCALENDAR
