BEGIN:VCALENDAR
VERSION:2.0
PRODID:-//ChamberMaster//Event Calendar 2.0//EN
METHOD:PUBLISH
X-PUBLISHED-TTL:P3D
REFRESH-INTERVAL:P3D
CALSCALE:GREGORIAN
BEGIN:VEVENT
DTSTART;VALUE=DATE:20081216
DTEND;VALUE=DATE:20081217
TRANSP:TRANSPARENT
X-MICROSOFT-CDO-ALLDAYEVENT:TRUE
SUMMARY:The Nutcracker
DESCRIPTION:The timeless classic is back.  Tchaikovsky's beautiful score with its dreamy waltzes and spirited mazurkas brings to life the magical tale of Clara and the nutcracker. For questions or tickets\, please call the number listed.  Individual tickets are $40\, $35 and $30.
X-ALT-DESC;FMTTYPE=text/html:The timeless classic is back.  Tchaikovsky's beautiful score with its dreamy waltzes and spirited mazurkas brings to life the magical tale of Clara and the nutcracker. For questions or tickets\, please call the number listed.  Individual tickets are $40\, $35 and $30.
LOCATION:
UID:e.1212.2517
SEQUENCE:3
DTSTAMP:20260425T140015Z
URL:http://business.beaufortchamber.org/events/details/the-nutcracker-12-16-2008-2517
END:VEVENT

END:VCALENDAR
