BEGIN:VCALENDAR
VERSION:2.0
PRODID:-//ChamberMaster//Event Calendar 2.0//EN
METHOD:PUBLISH
X-PUBLISHED-TTL:P3D
REFRESH-INTERVAL:P3D
CALSCALE:GREGORIAN
BEGIN:VEVENT
DTSTART;VALUE=DATE:20090326
DTEND;VALUE=DATE:20090327
TRANSP:TRANSPARENT
X-MICROSOFT-CDO-ALLDAYEVENT:TRUE
SUMMARY:The Palmetto Theater Experiment: 'No Child...' by Nilaja Sun
DESCRIPTION:The play is about the arts-in-education experience: a teaching artist gets a much-needed job teaching inner city kids to produce a play-within-a-play. Her struggle to put on a theater production is a lesson in valuing the arts and valuing educators. The play is narrated by the school's janitor\, who's seen it all: holes in the roof\, classroom chaos\, student achievement. Rated R for language. \n3/26 - 7:30pm - Pay what you can\; \n3/27 - 7:30pm - $15\;\n3/28 - 3:00pm - $15\n3/28 - 7:30pm - $15\n3/29 - 3:00pm - $15
X-ALT-DESC;FMTTYPE=text/html:The play is about the arts-in-education experience: a teaching artist gets a much-needed job teaching inner city kids to produce a play-within-a-play. Her struggle to put on a theater production is a lesson in valuing the arts and valuing educators. The play is narrated by the school's janitor\, who's seen it all: holes in the roof\, classroom chaos\, student achievement. Rated R for language. \n3/26 - 7:30pm - Pay what you can\; \n3/27 - 7:30pm - $15\;\n3/28 - 3:00pm - $15\n3/28 - 7:30pm - $15\n3/29 - 3:00pm - $15
LOCATION:
UID:e.1212.3070
SEQUENCE:3
DTSTAMP:20260425T130147Z
URL:http://business.beaufortchamber.org/events/details/the-palmetto-theater-experiment-no-child-by-nilaja-sun-03-26-2009-3070
END:VEVENT

END:VCALENDAR
