BEGIN:VCALENDAR
VERSION:2.0
PRODID:-//ChamberMaster//Event Calendar 2.0//EN
METHOD:PUBLISH
X-PUBLISHED-TTL:P3D
REFRESH-INTERVAL:P3D
CALSCALE:GREGORIAN
BEGIN:VEVENT
DTSTART;VALUE=DATE:20100319
DTEND;VALUE=DATE:20100320
TRANSP:TRANSPARENT
X-MICROSOFT-CDO-ALLDAYEVENT:TRUE
SUMMARY:The Parish Church of St. Helena - 54th Annual Spring Tour of Homes
DESCRIPTION:Cost for Friday evening tours from 4:00pm - 6:pm: FREE\nDuring the church tour\, you will learn interesting details about how the church was used as a hospital during the Revolutionary and Civil Wars.  The special communion silver given to the church in 1734 in memory of Captain John Bull's wife will be on display.\n\nCost for Friday evening Candlelight WalkingTour: $40\nJoin us for this wonderful tour of "The Old Point" which includes a reception and entertainment at the conclusion of your tour.  Explore Beaufort's most historic neighborhood as you are welcomed into some of the most beautiful privately owned residences.  They are noted nationwide for their richness of architectural style\, ranging from the early 1700's to the twentieth century.\n\nTickets\, tour information and brochure available on line.
X-ALT-DESC;FMTTYPE=text/html:Cost for Friday evening tours from 4:00pm - 6:pm: FREE\nDuring the church tour\, you will learn interesting details about how the church was used as a hospital during the Revolutionary and Civil Wars.  The special communion silver given to the church in 1734 in memory of Captain John Bull's wife will be on display.\n\nCost for Friday evening Candlelight WalkingTour: $40\nJoin us for this wonderful tour of "The Old Point" which includes a reception and entertainment at the conclusion of your tour.  Explore Beaufort's most historic neighborhood as you are welcomed into some of the most beautiful privately owned residences.  They are noted nationwide for their richness of architectural style\, ranging from the early 1700's to the twentieth century.\n\nTickets\, tour information and brochure available on line.
LOCATION:
UID:e.1212.3769
SEQUENCE:3
DTSTAMP:20260424T155415Z
URL:http://business.beaufortchamber.org/events/details/the-parish-church-of-st-helena-54th-annual-spring-tour-of-homes-03-19-2010-3769
END:VEVENT

END:VCALENDAR
