BEGIN:VCALENDAR
VERSION:2.0
PRODID:-//ChamberMaster//Event Calendar 2.0//EN
METHOD:PUBLISH
X-PUBLISHED-TTL:P3D
REFRESH-INTERVAL:P3D
CALSCALE:GREGORIAN
BEGIN:VEVENT
DTSTART;VALUE=DATE:20100418
DTEND;VALUE=DATE:20100419
TRANSP:TRANSPARENT
X-MICROSOFT-CDO-ALLDAYEVENT:TRUE
SUMMARY:The Parish Church of St. Helena - After Easter Annual Prayer Service
DESCRIPTION:Join us for this wonderful afternoon of worship with family and friends.\nBring your chairs\, blankets and pick-nick baskets.\nTake US21 N. from Beaufort out just past Gardens Corner - see the sign for Old Sheldon Church\nTurn right on the first paved road (less than 1/2 mile) and turn right on Old Sheldon Church Road\nContinue down that road about 2 miles it will be located on the right - parking on the left.\nCost: Free and open to the public
X-ALT-DESC;FMTTYPE=text/html:Join us for this wonderful afternoon of worship with family and friends.\nBring your chairs\, blankets and pick-nick baskets.\nTake US21 N. from Beaufort out just past Gardens Corner - see the sign for Old Sheldon Church\nTurn right on the first paved road (less than 1/2 mile) and turn right on Old Sheldon Church Road\nContinue down that road about 2 miles it will be located on the right - parking on the left.\nCost: Free and open to the public
LOCATION:
UID:e.1212.3770
SEQUENCE:3
DTSTAMP:20260424T140246Z
URL:http://business.beaufortchamber.org/events/details/the-parish-church-of-st-helena-after-easter-annual-prayer-service-04-18-2010-3770
END:VEVENT

END:VCALENDAR
