BEGIN:VCALENDAR
VERSION:2.0
PRODID:-//ChamberMaster//Event Calendar 2.0//EN
METHOD:PUBLISH
X-PUBLISHED-TTL:P3D
REFRESH-INTERVAL:P3D
CALSCALE:GREGORIAN
BEGIN:VEVENT
DTSTART;VALUE=DATE:20091107
DTEND;VALUE=DATE:20091108
TRANSP:TRANSPARENT
X-MICROSOFT-CDO-ALLDAYEVENT:TRUE
SUMMARY:The Parish Church of St Helena - Annual Fall Bazaar
DESCRIPTION:Check out all the great items at our Special Bazaar !\nBakery\, candy\, bargain box\, holiday decorations\, frozen foods\, silent auction\, gift boutique\, books\, snack bar\, pet boutique and our famous "Church Mice".\nSilent Auction closes at 1:00pm.
X-ALT-DESC;FMTTYPE=text/html:Check out all the great items at our Special Bazaar !\nBakery\, candy\, bargain box\, holiday decorations\, frozen foods\, silent auction\, gift boutique\, books\, snack bar\, pet boutique and our famous "Church Mice".\nSilent Auction closes at 1:00pm.
LOCATION:
UID:e.1212.3678
SEQUENCE:3
DTSTAMP:20260424T205407Z
URL:http://business.beaufortchamber.org/events/details/the-parish-church-of-st-helena-annual-fall-bazaar-11-07-2009-3678
END:VEVENT

END:VCALENDAR
