BEGIN:VCALENDAR
VERSION:2.0
PRODID:-//ChamberMaster//Event Calendar 2.0//EN
METHOD:PUBLISH
X-PUBLISHED-TTL:P3D
REFRESH-INTERVAL:P3D
CALSCALE:GREGORIAN
BEGIN:VEVENT
DTSTART;VALUE=DATE:20091106
DTEND;VALUE=DATE:20091107
TRANSP:TRANSPARENT
X-MICROSOFT-CDO-ALLDAYEVENT:TRUE
SUMMARY:The Parish Church of St Helena - Annual Fall Bazaar Preview
DESCRIPTION:Check out all the great items at our Special Bazaar Preview !\nBakery\, candy\, bargain box\, holiday decorations\, frozen foods\, silent auction\, gift boutique\, books\, snack bar\, pet boutique and our famous "Church Mice".\nNo sales\, but silent auction bids will be accepted.
X-ALT-DESC;FMTTYPE=text/html:Check out all the great items at our Special Bazaar Preview !\nBakery\, candy\, bargain box\, holiday decorations\, frozen foods\, silent auction\, gift boutique\, books\, snack bar\, pet boutique and our famous "Church Mice".\nNo sales\, but silent auction bids will be accepted.
LOCATION:
UID:e.1212.3677
SEQUENCE:3
DTSTAMP:20260424T205356Z
URL:http://business.beaufortchamber.org/events/details/the-parish-church-of-st-helena-annual-fall-bazaar-preview-11-06-2009-3677
END:VEVENT

END:VCALENDAR
