BEGIN:VCALENDAR
VERSION:2.0
PRODID:-//ChamberMaster//Event Calendar 2.0//EN
METHOD:PUBLISH
X-PUBLISHED-TTL:P3D
REFRESH-INTERVAL:P3D
CALSCALE:GREGORIAN
BEGIN:VEVENT
DTSTART:20111118T170000Z
DTEND:20111118T180000Z
X-MICROSOFT-CDO-ALLDAYEVENT:FALSE
SUMMARY:The Parish Church of St. Helena - Music at Noon
DESCRIPTION:Organist:  Dr. Jared Johnson\n\nPresented by the Lowcountry Chapter of American Guild of Organists featuring the Taylor & Boody Organ Opus II\, 1985\n\n\n\nThe concert series offers organ concerts approximately four times each Spring and again each Fall. Concert organists from all over the world are invited to play the magnificent Taylor and Boody organ\, to thrill the audiences who gather in the church\, and to instruct us on composers and music we enjoy.\n\n\n\nThis program is totally supported by gifts from music lovers like yourself.
X-ALT-DESC;FMTTYPE=text/html:Organist:&nbsp\; Dr. Jared Johnson<br />\nPresented by the Lowcountry Chapter of American Guild of Organists f<span style="font-size: 12px"><span style="font-family: arial\, helvetica\, sans-serif">eaturing the Taylor &amp\; Boody Organ Opus II\, 1985</span><br />\n<br />\n<span style="font-family: arial\, helvetica\, sans-serif">The concert series offers organ concerts approximately four times each Spring and again each Fall. Concert organists from all over the world are invited to play the magnificent Taylor and Boody organ\, to thrill the audiences who gather in the church\, and to instruct us on composers&nbsp\;and music we enjoy.<br />\n<br />\nThis program is&nbsp\;totally supported by gifts from music lovers like yourself.</span></span>
LOCATION:The Parish Church of St. Helena 505 Church Street Beaufort\, SC 29902
UID:e.1212.4348
SEQUENCE:3
DTSTAMP:20260423T075004Z
URL:http://business.beaufortchamber.org/events/details/the-parish-church-of-st-helena-music-at-noon-11-18-2011-4348
END:VEVENT

END:VCALENDAR
